BEGIN:VCALENDAR
VERSION:2.0
PRODID:-//Abundant Life Church - ECPv6.15.20//NONSGML v1.0//EN
CALSCALE:GREGORIAN
METHOD:PUBLISH
X-WR-CALNAME:Abundant Life Church
X-ORIGINAL-URL:https://abundantlifetorrance.com
X-WR-CALDESC:Events for Abundant Life Church
REFRESH-INTERVAL;VALUE=DURATION:PT1H
X-Robots-Tag:noindex
X-PUBLISHED-TTL:PT1H
BEGIN:VTIMEZONE
TZID:UTC
BEGIN:STANDARD
TZOFFSETFROM:+0000
TZOFFSETTO:+0000
TZNAME:UTC
DTSTART:20250101T000000
END:STANDARD
END:VTIMEZONE
BEGIN:VEVENT
DTSTART;TZID=UTC:20260525T110000
DTEND;TZID=UTC:20260525T160000
DTSTAMP:20260422T112345
CREATED:20240518T230732Z
LAST-MODIFIED:20260416T030156Z
UID:10000962-1779706800-1779724800@abundantlifetorrance.com
SUMMARY:Memorial Day Picnic
DESCRIPTION:Come join us fun & games\, conversation\, and a good time! \nBurgers provided – You bring the sides! \nEVERY Memorial Day from 11am – 4p @ Wilson Park across the parking lot from the park railroad. \nBring Friends & Family \n 
URL:https://abundantlifetorrance.com/event/memorial-day-picnic/2026-05-25/
LOCATION:Wilson Park\, 2400 Jefferson St\, Torrance\, CA\, 90501\, United States
CATEGORIES:Church
ATTACH;FMTTYPE=image/jpeg:https://abundantlifetorrance.com/wp/wp-content/uploads/2024/05/burgers.jpg
END:VEVENT
BEGIN:VEVENT
DTSTART;TZID=UTC:20270531T110000
DTEND;TZID=UTC:20270531T160000
DTSTAMP:20260422T112345
CREATED:20240518T230732Z
LAST-MODIFIED:20260416T030156Z
UID:10000963-1811761200-1811779200@abundantlifetorrance.com
SUMMARY:Memorial Day Picnic
DESCRIPTION:Come join us fun & games\, conversation\, and a good time! \nBurgers provided – You bring the sides! \nEVERY Memorial Day from 11am – 4p @ Wilson Park across the parking lot from the park railroad. \nBring Friends & Family \n 
URL:https://abundantlifetorrance.com/event/memorial-day-picnic/2027-05-31/
LOCATION:Wilson Park\, 2400 Jefferson St\, Torrance\, CA\, 90501\, United States
CATEGORIES:Church
ATTACH;FMTTYPE=image/jpeg:https://abundantlifetorrance.com/wp/wp-content/uploads/2024/05/burgers.jpg
END:VEVENT
BEGIN:VEVENT
DTSTART;TZID=UTC:20280529T110000
DTEND;TZID=UTC:20280529T160000
DTSTAMP:20260422T112345
CREATED:20240518T230732Z
LAST-MODIFIED:20260416T030156Z
UID:10000964-1843210800-1843228800@abundantlifetorrance.com
SUMMARY:Memorial Day Picnic
DESCRIPTION:Come join us fun & games\, conversation\, and a good time! \nBurgers provided – You bring the sides! \nEVERY Memorial Day from 11am – 4p @ Wilson Park across the parking lot from the park railroad. \nBring Friends & Family \n 
URL:https://abundantlifetorrance.com/event/memorial-day-picnic/2028-05-29/
LOCATION:Wilson Park\, 2400 Jefferson St\, Torrance\, CA\, 90501\, United States
CATEGORIES:Church
ATTACH;FMTTYPE=image/jpeg:https://abundantlifetorrance.com/wp/wp-content/uploads/2024/05/burgers.jpg
END:VEVENT
BEGIN:VEVENT
DTSTART;TZID=UTC:20290528T110000
DTEND;TZID=UTC:20290528T160000
DTSTAMP:20260422T112345
CREATED:20240518T230732Z
LAST-MODIFIED:20260416T030156Z
UID:10000965-1874660400-1874678400@abundantlifetorrance.com
SUMMARY:Memorial Day Picnic
DESCRIPTION:Come join us fun & games\, conversation\, and a good time! \nBurgers provided – You bring the sides! \nEVERY Memorial Day from 11am – 4p @ Wilson Park across the parking lot from the park railroad. \nBring Friends & Family \n 
URL:https://abundantlifetorrance.com/event/memorial-day-picnic/2029-05-28/
LOCATION:Wilson Park\, 2400 Jefferson St\, Torrance\, CA\, 90501\, United States
CATEGORIES:Church
ATTACH;FMTTYPE=image/jpeg:https://abundantlifetorrance.com/wp/wp-content/uploads/2024/05/burgers.jpg
END:VEVENT
BEGIN:VEVENT
DTSTART;TZID=UTC:20300527T110000
DTEND;TZID=UTC:20300527T160000
DTSTAMP:20260422T112345
CREATED:20240518T230732Z
LAST-MODIFIED:20260416T030156Z
UID:10000966-1906110000-1906128000@abundantlifetorrance.com
SUMMARY:Memorial Day Picnic
DESCRIPTION:Come join us fun & games\, conversation\, and a good time! \nBurgers provided – You bring the sides! \nEVERY Memorial Day from 11am – 4p @ Wilson Park across the parking lot from the park railroad. \nBring Friends & Family \n 
URL:https://abundantlifetorrance.com/event/memorial-day-picnic/2030-05-27/
LOCATION:Wilson Park\, 2400 Jefferson St\, Torrance\, CA\, 90501\, United States
CATEGORIES:Church
ATTACH;FMTTYPE=image/jpeg:https://abundantlifetorrance.com/wp/wp-content/uploads/2024/05/burgers.jpg
END:VEVENT
END:VCALENDAR